BEGIN:VCALENDAR
VERSION:2.0
PRODID:spatie/icalendar-generator
DESCRIPTION:Events from Goshen Garden Club
X-WR-CALDESC:Events from Goshen Garden Club
REFRESH-INTERVAL;VALUE=DURATION:PT1440M
X-PUBLISHED-TTL:PT1440M
BEGIN:VTIMEZONE
TZID:America/New_York
BEGIN:STANDARD
DTSTART:20251102T020000Z
TZOFFSETFROM:-0400
TZOFFSETTO:-0500
END:STANDARD
BEGIN:DAYLIGHT
DTSTART:20260308T020000Z
TZOFFSETFROM:-0500
TZOFFSETTO:-0400
END:DAYLIGHT
END:VTIMEZONE
BEGIN:VTIMEZONE
TZID:UTC
BEGIN:STANDARD
DTSTART:20250728T154956Z
TZOFFSETFROM:+0000
TZOFFSETTO:+0000
END:STANDARD
END:VTIMEZONE
BEGIN:VEVENT
UID:70-55
DTSTAMP:20260424T154956Z
SUMMARY:April Meeting
LOCATION:
ORGANIZER;CN=Club Member:MAILTO:ggclub@yahoo.com
DTSTART;TZID=America/New_York:20260402T113000
DTEND;TZID=America/New_York:20260402T140000
X-ALT-DESC;FMTTYPE=TEXT/HTML:
CATEGORIES:General
URL;VALUE=URI:https://goshengardenclub.org/calendar-events/april-meeting/
METHOD:PUBLISH
END:VEVENT
END:VCALENDAR